BEGIN:VCALENDAR
VERSION:2.0
PRODID:-//Le Point Commun - ECPv6.15.20//NONSGML v1.0//EN
CALSCALE:GREGORIAN
METHOD:PUBLISH
X-WR-CALNAME:Le Point Commun
X-ORIGINAL-URL:https://www.lepointcommun.eu
X-WR-CALDESC:Évènements pour Le Point Commun
REFRESH-INTERVAL;VALUE=DURATION:PT1H
X-Robots-Tag:noindex
X-PUBLISHED-TTL:PT1H
BEGIN:VTIMEZONE
TZID:Europe/Paris
BEGIN:DAYLIGHT
TZOFFSETFROM:+0100
TZOFFSETTO:+0200
TZNAME:CEST
DTSTART:20250330T010000
END:DAYLIGHT
BEGIN:STANDARD
TZOFFSETFROM:+0200
TZOFFSETTO:+0100
TZNAME:CET
DTSTART:20251026T010000
END:STANDARD
BEGIN:DAYLIGHT
TZOFFSETFROM:+0100
TZOFFSETTO:+0200
TZNAME:CEST
DTSTART:20260329T010000
END:DAYLIGHT
BEGIN:STANDARD
TZOFFSETFROM:+0200
TZOFFSETTO:+0100
TZNAME:CET
DTSTART:20261025T010000
END:STANDARD
BEGIN:DAYLIGHT
TZOFFSETFROM:+0100
TZOFFSETTO:+0200
TZNAME:CEST
DTSTART:20270328T010000
END:DAYLIGHT
BEGIN:STANDARD
TZOFFSETFROM:+0200
TZOFFSETTO:+0100
TZNAME:CET
DTSTART:20271031T010000
END:STANDARD
END:VTIMEZONE
BEGIN:VEVENT
DTSTART;TZID=Europe/Paris:20260725T103000
DTEND;TZID=Europe/Paris:20260725T110000
DTSTAMP:20260425T203453
CREATED:20260425T082621Z
LAST-MODIFIED:20260425T082621Z
UID:10810-1784975400-1784977200@www.lepointcommun.eu
SUMMARY:Ramène ton doudou · visite contée
DESCRIPTION:Découvrez en famille le Point Commun\, espace d’art contemporain et explorez l’exposition Al Dente de Luca Rizzo. \nImagine une place de village au sud de l’Italie. Au centre\, une fontaine un peu magique fait couler une eau salée — comme la mer\, les larmes ou l’eau des pâtes. L’artiste t’invite à explorer la mémoire\, l’identité et ce qui nous relie. Ici\, les pâtes deviennent symbole de lien et de convivialité. \nDécouvrez une histoire originale autour de l’exposition\ndès 2 ans\, accompagné du doudou préféré de votre enfant\ngratuit sur inscription contact@lepointcommun.eu ou 07 68 46 66 89
URL:https://www.lepointcommun.eu/event/ramene-ton-doudou-%c2%b7-visite-contee-4/
CATEGORIES:Jeune public,Visites commentées
END:VEVENT
END:VCALENDAR