BEGIN:VCALENDAR
VERSION:2.0
PRODID:-//Le Point Commun - ECPv6.15.20//NONSGML v1.0//EN
CALSCALE:GREGORIAN
METHOD:PUBLISH
X-ORIGINAL-URL:https://www.lepointcommun.eu
X-WR-CALDESC:Évènements pour Le Point Commun
REFRESH-INTERVAL;VALUE=DURATION:PT1H
X-Robots-Tag:noindex
X-PUBLISHED-TTL:PT1H
BEGIN:VTIMEZONE
TZID:Europe/Paris
BEGIN:DAYLIGHT
TZOFFSETFROM:+0100
TZOFFSETTO:+0200
TZNAME:CEST
DTSTART:20250330T010000
END:DAYLIGHT
BEGIN:STANDARD
TZOFFSETFROM:+0200
TZOFFSETTO:+0100
TZNAME:CET
DTSTART:20251026T010000
END:STANDARD
BEGIN:DAYLIGHT
TZOFFSETFROM:+0100
TZOFFSETTO:+0200
TZNAME:CEST
DTSTART:20260329T010000
END:DAYLIGHT
BEGIN:STANDARD
TZOFFSETFROM:+0200
TZOFFSETTO:+0100
TZNAME:CET
DTSTART:20261025T010000
END:STANDARD
BEGIN:DAYLIGHT
TZOFFSETFROM:+0100
TZOFFSETTO:+0200
TZNAME:CEST
DTSTART:20270328T010000
END:DAYLIGHT
BEGIN:STANDARD
TZOFFSETFROM:+0200
TZOFFSETTO:+0100
TZNAME:CET
DTSTART:20271031T010000
END:STANDARD
END:VTIMEZONE
BEGIN:VEVENT
DTSTART;TZID=Europe/Paris:20260502T103000
DTEND;TZID=Europe/Paris:20260502T110000
DTSTAMP:20260425T174510
CREATED:20260131T133848Z
LAST-MODIFIED:20260131T133848Z
UID:10677-1777717800-1777719600@www.lepointcommun.eu
SUMMARY:Ramène ton doudou · visite contée
DESCRIPTION:Découvrez en famille le Point Commun\, espace d’art contemporain et explorez l’exposition collective January has April’s showers. \nIci\, les artistes racontent des histoires où le monde semble parfois bizarre\, cassé ou à l’envers… À travers des peintures\, des films et des sculptures\, l’exposition invite à imaginer d’autres futurs\, à transformer les ruines en terrains de jeu\, à regarder autrement ce qui nous entoure. Un moment à partager en famille pour réfléchir et inventer ensemble de nouvelles façons de vivre et de faire monde ! \nDécouvrez une histoire originale autour de l’exposition\ndès 2 ans\, accompagné du doudou préféré de votre enfant\ngratuit sur inscription contact@lepointcommun.eu ou 07 68 46 66 89
URL:https://www.lepointcommun.eu/event/ramene-ton-doudou-%c2%b7-visite-contee-2/
CATEGORIES:Jeune public
END:VEVENT
END:VCALENDAR